BEGIN:VCALENDAR
VERSION:2.0
PRODID:-//ChamberMaster//Event Calendar 2.0//EN
METHOD:PUBLISH
X-PUBLISHED-TTL:P3D
REFRESH-INTERVAL:P3D
CALSCALE:GREGORIAN
BEGIN:VEVENT
DTSTART:20231013T204500Z
DTEND:20231013T214500Z
X-MICROSOFT-CDO-ALLDAYEVENT:FALSE
SUMMARY:Boot Barn Ribbon Cutting
DESCRIPTION:We are excited to invite everyone to welcome Boot Barn to Merrillville. Please join us at the Ribbon Cutting.\n\n \n\nRibbon Cutting will take place at 4:00pm.\n\n \n\nWe look forward to seeing everyone and appreciate your support of our Crossroads Chamber members\, and Northwest Indiana's business Community.
X-ALT-DESC;FMTTYPE=text/html:&nbsp\;We are excited to invite everyone to welcome Boot Barn to Merrillville. Please join us at the Ribbon Cutting.<br />\n&nbsp\;<br />\nRibbon Cutting will take place at 4:00pm.<br />\n&nbsp\;<br />\nWe look forward to seeing everyone and appreciate your support of our Crossroads Chamber members\, and Northwest Indiana&rsquo\;s business Community.<br />\n&nbsp\;
LOCATION:2520 E. 79th St Merrillville\, IN 46410
UID:e.897.5075
SEQUENCE:3
DTSTAMP:20260423T171323Z
URL:https://members.crossroadschamber.org/events/details/boot-barn-ribbon-cutting-5075
END:VEVENT

END:VCALENDAR
