BEGIN:VCALENDAR
VERSION:2.0
PRODID:-//ChamberMaster//Event Calendar 2.0//EN
METHOD:PUBLISH
X-PUBLISHED-TTL:P3D
REFRESH-INTERVAL:P3D
CALSCALE:GREGORIAN
BEGIN:VEVENT
DTSTART;VALUE=DATE:20250603
DTEND;VALUE=DATE:20250604
TRANSP:TRANSPARENT
X-MICROSOFT-CDO-ALLDAYEVENT:TRUE
SUMMARY:Boys & Girls Club Summer Camp
DESCRIPTION:Learning\, friendship\, and FUN await at Boys & Girls Club summer camp! We offer exciting and enriching experiences for youth ages 5-18 at 9 of our Clubs throughout Lake and Porter Counties.\n\nWe offer an 11.5-hour camp day for one low price. Our field trips take kids to exciting destinations like Ninja Kidz Park\, Challenger Center\, Zao Island\, and more!\n\n\n\nOur summer camp offers safe and supportive environments facilitated by caring mentors. Contact your local Club for a tour today!
X-ALT-DESC;FMTTYPE=text/html:<p>Learning\, friendship\, and FUN await at Boys &amp\; Girls Club summer camp! We offer exciting and enriching experiences for youth ages 5-18 at 9 of our Clubs throughout Lake and Porter Counties.</p>\n\n<p>We offer an 11.5-hour camp day for one low price. Our field trips take kids to exciting destinations like Ninja Kidz Park\, Challenger Center\, Zao Island\, and more!<br />\n<br />\nOur summer camp offers safe and supportive environments facilitated by caring mentors. Contact your local Club for a tour today!</p>\n
LOCATION:
UID:e.897.7108
SEQUENCE:3
DTSTAMP:20260420T065232Z
URL:https://members.crossroadschamber.org/events/details/boys-girls-club-summer-camp-7108
END:VEVENT

END:VCALENDAR
