BEGIN:VCALENDAR
VERSION:2.0
PRODID:-//ChamberMaster//Event Calendar 2.0//EN
METHOD:PUBLISH
X-PUBLISHED-TTL:P3D
REFRESH-INTERVAL:P3D
CALSCALE:GREGORIAN
BEGIN:VEVENT
DTSTART:20260226T230000Z
DTEND:20260227T030000Z
X-MICROSOFT-CDO-ALLDAYEVENT:FALSE
SUMMARY:Boys & Girls Club Youth of the Year
DESCRIPTION:Come celebrate Youth of the Year with us!\n\n\n\nYouth of the Year is the organization's highest honor\, recognizing our Club teens who exemplify leadership\, academic excellence\, service\, and strong character.
X-ALT-DESC;FMTTYPE=text/html:<span style="font-size:22px\;">Come celebrate Youth of the Year with us!<br />\n<br />\nYouth of the Year is the organization&rsquo\;s highest honor\, recognizing our Club teens who exemplify leadership\, academic excellence\, service\, and strong character.&nbsp\;</span>
LOCATION:3550 E. Lincoln Hwy Merrillville\, IN 46410
UID:e.897.7362
SEQUENCE:3
DTSTAMP:20260419T164047Z
URL:https://members.crossroadschamber.org/events/details/boys-girls-club-youth-of-the-year-7362
END:VEVENT

END:VCALENDAR
