BEGIN:VCALENDAR
VERSION:2.0
PRODID:-//ChamberMaster//Event Calendar 2.0//EN
METHOD:PUBLISH
X-PUBLISHED-TTL:P3D
REFRESH-INTERVAL:P3D
CALSCALE:GREGORIAN
BEGIN:VEVENT
DTSTART:20250424T170000Z
DTEND:20250424T190000Z
X-MICROSOFT-CDO-ALLDAYEVENT:FALSE
SUMMARY:BrightStar Care of Lake County Ribbon Cutting
DESCRIPTION:We are excited to invite everyone to welcome BrightStar Care of Lake County to Merrillville.Please join us at their Open House/Ribbon Cutting Ceremony.\n\n \n\nOpen house will be held from 12pm-2pm\n\nRibbon Cutting will take place at 12:30pm.\n\n \n\nWe look forward to seeing everyone and appreciate your support of our Crossroads Chamber members\, and Northwest Indiana's business Community.
X-ALT-DESC;FMTTYPE=text/html:We are excited to invite everyone to welcome BrightStar Care of Lake County to Merrillville.Please join us at their Open House/Ribbon Cutting Ceremony.<br />\n&nbsp\;<br />\nOpen house will be held from 12pm-2pm<br />\nRibbon Cutting will take place at 12:30pm.<br />\n&nbsp\;<br />\nWe look forward to seeing everyone and appreciate your support of our Crossroads Chamber members\, and Northwest Indiana&rsquo\;s business Community.
LOCATION:433 W. 84th Dr Merrillville\, IN 46410
UID:e.897.6643
SEQUENCE:3
DTSTAMP:20260420T103056Z
URL:https://members.crossroadschamber.org/events/details/brightstar-care-of-lake-county-ribbon-cutting-6643
END:VEVENT

END:VCALENDAR
