BEGIN:VCALENDAR
VERSION:2.0
PRODID:-//ChamberMaster//Event Calendar 2.0//EN
METHOD:PUBLISH
X-PUBLISHED-TTL:P3D
REFRESH-INTERVAL:P3D
CALSCALE:GREGORIAN
BEGIN:VEVENT
DTSTART:20240514T160000Z
DTEND:20240514T180000Z
X-MICROSOFT-CDO-ALLDAYEVENT:FALSE
SUMMARY:Brookstone Estates Ribbon Cutting
DESCRIPTION:We are excited to invite everyone to celebrate the opening of Phase 2 of the Brookstone Estates. Please join us at the Ribbon Cutting/ Open house.\n\n\n\nOpen house will be held from 11am-1pm\n\nRibbon Cutting will take place at 11:30am.\n\n\n\nWe look forward to seeing everyone and appreciate your support of our Crossroads Chamber members\, and Northwest Indiana's business Community.
X-ALT-DESC;FMTTYPE=text/html:We are excited to invite everyone to celebrate the opening of Phase 2 of the Brookstone Estates. Please join us at the Ribbon Cutting/ Open house.<br />\n<br />\nOpen house will be held from 11am-1pm<br />\n<strong>Ribbon Cutting will take place at 11:30am.</strong><br />\n<br />\nWe look forward to seeing everyone and appreciate your support of our Crossroads Chamber members\, and Northwest Indiana&rsquo\;s business Community.
LOCATION:2034 W 75th Pl. Merrillville\, IN 46307
UID:e.897.6252
SEQUENCE:3
DTSTAMP:20260421T054755Z
URL:https://members.crossroadschamber.org/events/details/brookstone-estates-ribbon-cutting-6252
END:VEVENT

END:VCALENDAR
