BEGIN:VCALENDAR
VERSION:2.0
PRODID:-//ChamberMaster//Event Calendar 2.0//EN
METHOD:PUBLISH
X-PUBLISHED-TTL:P3D
REFRESH-INTERVAL:P3D
CALSCALE:GREGORIAN
BEGIN:VEVENT
DTSTART:20250927T170000Z
DTEND:20250929T030000Z
X-MICROSOFT-CDO-ALLDAYEVENT:FALSE
SUMMARY:Brown Family Ranch LLC 10th Annual Gaming Show Rodeo
DESCRIPTION:Come out and see one of the toughest sports on dirt!! You'll see some of the greatest horseback riders in the Northwest battle it out in timed events and even calf roping\, while other cowboys and cowgirls saddle their horses up for speed and action on horseback!! There will be delicious food vendors\, face painting\, bouncy houses\, mechanical bull\, and raffles to benefit our BFR Community Engagement Scholarship!\n\nDon't forget about the Live bands & DJ\, firework display and more.
X-ALT-DESC;FMTTYPE=text/html:<span style="color:rgb(33\, 37\, 41)\; font-family:lora\,sans-serif\; font-size:17px">Come out and see one of the toughest sports on dirt!! You&rsquo\;ll see some of the greatest horseback riders in the Northwest battle it out in timed events and even calf roping\, while other cowboys and cowgirls saddle their horses up for speed and action on horseback!! There will be delicious food vendors\, face painting\, bouncy houses\, mechanical bull\, and raffles to benefit our BFR Community Engagement Scholarship!</span><br />\n<span style="color:rgb(33\, 37\, 41)\; font-family:lora\,sans-serif\; font-size:17px">Don&rsquo\;t forget about the Live bands &amp\; DJ\, firework display and more.&nbsp\;</span>
LOCATION:2246 Mississippi St Gary\, IN 46407
UID:e.897.7140
SEQUENCE:3
DTSTAMP:20260419T233505Z
URL:https://members.crossroadschamber.org/events/details/brown-family-ranch-llc-10th-annual-gaming-show-rodeo-7140
END:VEVENT

END:VCALENDAR
