BEGIN:VCALENDAR
VERSION:2.0
PRODID:-//ChamberMaster//Event Calendar 2.0//EN
METHOD:PUBLISH
X-PUBLISHED-TTL:P3D
REFRESH-INTERVAL:P3D
CALSCALE:GREGORIAN
BEGIN:VEVENT
DTSTART:20260219T220000Z
DTEND:20260220T000000Z
X-MICROSOFT-CDO-ALLDAYEVENT:FALSE
SUMMARY:Bubbles & Boots Soiree
DESCRIPTION:Join us for a fun and relaxed evening with Women in Leadership Development (WILD) Committee at Gamba Ristorante ! \n\nPut on your favorite boots\, sip on prosecco\, and network with fellow professionals.\n\nTogether\, we'll explore strategies to achieve that perfect balance between work and personal life. \n\nWe can't wait to see you there!
X-ALT-DESC;FMTTYPE=text/html:<br />\n<span style="font-size:26px\;">Join us for a fun and relaxed evening with Women in Leadership Development (WILD) Committee at Gamba Ristorante !&nbsp\;<br />\nPut on your favorite boots\, sip on prosecco\, and network with fellow professionals.<br />\nTogether\, we&#39\;ll explore strategies to achieve that perfect balance between work and personal life.&nbsp\;<br />\nWe can&#39\;t wait to see you there!</span>
LOCATION:Gamba Ristorante 455 E 84th Dr Merrillville\, IN
UID:e.897.7348
SEQUENCE:3
DTSTAMP:20260419T163248Z
URL:https://members.crossroadschamber.org/events/details/bubbles-boots-soiree-7348
END:VEVENT

END:VCALENDAR
