BEGIN:VCALENDAR
VERSION:2.0
PRODID:-//ChamberMaster//Event Calendar 2.0//EN
METHOD:PUBLISH
X-PUBLISHED-TTL:P3D
REFRESH-INTERVAL:P3D
CALSCALE:GREGORIAN
BEGIN:VEVENT
DTSTART:20231130T220000Z
DTEND:20231201T000000Z
X-MICROSOFT-CDO-ALLDAYEVENT:FALSE
SUMMARY:Business After Hours $1 Million Campaign Kickoff
DESCRIPTION:Hosted by Indiana Ballet Theatre\n\n\n\nFood\, Drinks\, Massage\, Door Prizes\, Display of Restored Building Outside and In Campaign Raffle Tickets\, Nutcracker Tickets\, Ball Sign Up\, Naming Rights Sign\n\nPossible Special Appearance by Nutcracker and Princess?!
X-ALT-DESC;FMTTYPE=text/html:Hosted by&nbsp\;Indiana Ballet Theatre<br />\n<br />\nFood\, Drinks\, Massage\, Door Prizes\, Display of Restored Building Outside and In Campaign Raffle Tickets\, Nutcracker Tickets\, Ball Sign Up\, Naming Rights Sign<br />\nPossible Special Appearance by Nutcracker and Princess?!&nbsp\;
LOCATION:Crossroads Chamber Lower Level 440 W 84th Dr. Merrillville\, IN 46410
UID:e.897.5481
SEQUENCE:3
DTSTAMP:20260423T170618Z
URL:https://members.crossroadschamber.org/events/details/business-after-hours-1-million-campaign-kickoff-5481
END:VEVENT

END:VCALENDAR
