BEGIN:VCALENDAR
VERSION:2.0
PRODID:-//ChamberMaster//Event Calendar 2.0//EN
METHOD:PUBLISH
X-PUBLISHED-TTL:P3D
REFRESH-INTERVAL:P3D
CALSCALE:GREGORIAN
BEGIN:VEVENT
DTSTART:20251111T220000Z
DTEND:20251112T000000Z
X-MICROSOFT-CDO-ALLDAYEVENT:FALSE
SUMMARY:Business After Hours
DESCRIPTION:Business after-hours events is a welcoming space for networking and growth\, fostering new partnerships and strengthening existing relationships among professionals from diverse industries in our chamber.\n\n \n\nJoin us at Asparagus Restaurant \n\n\n\nThere will be local business and chamber members present\, with light appetizers\, and refreshments.
X-ALT-DESC;FMTTYPE=text/html:<span style="font-size:18px\;"><span style="font-family:arial\;">Business after-hours events is a welcoming space for networking and growth\, fostering new partnerships and strengthening existing relationships among professionals from diverse industries in our chamber.<br />\n&nbsp\;</span><br />\n<span style="font-size:22px\;">Join us at&nbsp\;</span></span><span style="font-size:22px\;"><span style="color: rgb(77\, 81\, 86)\; font-family: Roboto\, Arial\, sans-serif\; text-wrap-mode: nowrap\;">Asparagus Restaurant&nbsp\;</span></span><br />\n<br />\n<span style="font-size:18px\;"><span style="font-family:arial\;">There will be local business and chamber members present\, with light appetizers\, and refreshments.</span></span>
LOCATION:7876 Broadway\, Merrillville\, IN 46410
UID:e.897.7059
SEQUENCE:3
DTSTAMP:20260419T194653Z
URL:https://members.crossroadschamber.org/events/details/business-after-hours-11-11-2025-7059
END:VEVENT

END:VCALENDAR
