BEGIN:VCALENDAR
VERSION:2.0
PRODID:-//ChamberMaster//Event Calendar 2.0//EN
METHOD:PUBLISH
X-PUBLISHED-TTL:P3D
REFRESH-INTERVAL:P3D
CALSCALE:GREGORIAN
BEGIN:VEVENT
DTSTART:20240910T210000Z
DTEND:20240910T230000Z
X-MICROSOFT-CDO-ALLDAYEVENT:FALSE
SUMMARY:Business After Hours
DESCRIPTION:Business after-hours is a welcoming space for networking and growth\, fostering new partnerships and strengthening existing relationships among professionals from diverse industries in our chamber.\n\n \n\nJoin us for a joint Business After Hours hosted by the Dean and Barbara White Community Center\, Town of Merrillville\, Wish Photography\, Superior Air-Ground Ambulance Service\, Catch Table and Tap and BELFOR Property Restoration. \n\n\n\nThere will be local business and chamber members present\, with light appetizers\, and refreshments.
X-ALT-DESC;FMTTYPE=text/html:<br />\n<span style="font-size:18px\;">Business after-hours is a welcoming space for networking and growth\, fostering new partnerships and strengthening existing relationships among professionals from diverse industries in our chamber.<br />\n&nbsp\;<br />\nJoin us for a joint&nbsp\;Business After Hours hosted by the Dean and Barbara White Community Center\, Town of Merrillville\, Wish Photography\, Superior Air-Ground Ambulance Service\, Catch Table and Tap and BELFOR Property Restoration.&nbsp\;<br />\n<br />\nThere will be local business and chamber members present\, with light appetizers\, and refreshments.</span><br />\n&nbsp\;
LOCATION:6600 Broadway Merrillville\, IN 46410
UID:e.897.6453
SEQUENCE:3
DTSTAMP:20260420T212331Z
URL:https://members.crossroadschamber.org/events/details/business-after-hours-6453
END:VEVENT

END:VCALENDAR
