BEGIN:VCALENDAR
VERSION:2.0
PRODID:-//ChamberMaster//Event Calendar 2.0//EN
METHOD:PUBLISH
X-PUBLISHED-TTL:P3D
REFRESH-INTERVAL:P3D
CALSCALE:GREGORIAN
BEGIN:VEVENT
DTSTART:20251209T233000Z
DTEND:20251210T013000Z
X-MICROSOFT-CDO-ALLDAYEVENT:FALSE
SUMMARY:Business After Hours at Wintrust Bank
DESCRIPTION:Business after-hours events is a welcoming space for networking and growth\, fostering new partnerships and strengthening existing relationships among professionals from diverse industries in our chamber.\n\n \n\nJoin us at Wintrust Bank \n\n\n\nThere will be local business and chamber members present\, with light appetizers\, and refreshments.
X-ALT-DESC;FMTTYPE=text/html:<span style="font-size:18px\;"><span style="font-family:arial\;">Business after-hours events is a welcoming space for networking and growth\, fostering new partnerships and strengthening existing relationships among professionals from diverse industries in our chamber.<br />\n&nbsp\;</span><br />\nJoin us at Wintrust Bank&nbsp\;<br />\n<br />\n<span style="font-family:arial\;">There will be local business and chamber members present\, with light appetizers\, and refreshments.</span></span>
LOCATION:1420 E Summit St\, Crown Point\, IN 46307
UID:e.897.7060
SEQUENCE:3
DTSTAMP:20260419T160646Z
URL:https://members.crossroadschamber.org/events/details/business-after-hours-at-wintrust-bank-7060
END:VEVENT

END:VCALENDAR
