BEGIN:VCALENDAR
VERSION:2.0
PRODID:-//ChamberMaster//Event Calendar 2.0//EN
METHOD:PUBLISH
X-PUBLISHED-TTL:P3D
REFRESH-INTERVAL:P3D
CALSCALE:GREGORIAN
BEGIN:VEVENT
DTSTART:20240514T210000Z
DTEND:20240514T230000Z
X-MICROSOFT-CDO-ALLDAYEVENT:FALSE
SUMMARY:Business After Hours - Centier Bank
DESCRIPTION:Join us on the fifth floor at the Centier Corporate Centre for a Business After Hours Event!\n\nThere will be local business and community leaders present\, light appetizers\, and refreshments. \n\nCentier will be raffling a $50 dollar money tree!\n\n\n\nBusiness after-hours event is a welcoming space for networking and growth\, fostering new partnerships and strengthening existing relationships among professionals from diverse industries.
X-ALT-DESC;FMTTYPE=text/html:<p class="cvGsUA direction-ltr align-center para-style-body" style="color: rgb(0\, 0\, 0)\; font-family: &quot\;YAFdJmJ3gqA 0&quot\;\, _fb_\, auto\; --font-size: 27.9998px\; --line-height: 1.4\; line-height: 39px\;"><span style="font-size:16px\;"><span style="font-family:arial\;"><span class="OYPEnA text-decoration-none text-strikethrough-none">Join us on the fifth floor at the Centier Corporate Centre for a Business After Hours Event!</span></span></span></p>\n\n<p class="cvGsUA direction-ltr align-center para-style-body" style="color: rgb(0\, 0\, 0)\; font-family: &quot\;YAFdJmJ3gqA 0&quot\;\, _fb_\, auto\; --font-size: 27.9998px\; --line-height: 1.4\; line-height: 39px\;"><span style="font-size:16px\;"><span style="font-family:arial\;"><span class="OYPEnA text-decoration-none text-strikethrough-none">There will be local business and community leaders present\, light appetizers\, and refreshments.</span><span class="OYPEnA text-decoration-none text-strikethrough-none white-space-prewrap"> </span></span></span></p>\n\n<p class="cvGsUA direction-ltr align-center para-style-body" style="color: rgb(0\, 0\, 0)\; font-family: &quot\;YAFdJmJ3gqA 0&quot\;\, _fb_\, auto\; --font-size: 27.9998px\; --line-height: 1.4\; line-height: 39px\;"><span style="font-size:16px\;"><span style="font-family:arial\;"><span class="OYPEnA text-decoration-none text-strikethrough-none" style="font-weight: 700\;">Centier will be raffling a $50 dollar money tree!</span><br />\n<br />\n<span class="OYPEnA text-decoration-none text-strikethrough-none" style="color: rgb(0\, 0\, 0)\;">Business after-hours event is a welcoming space for networking and growth\, fostering new partnerships and strengthening existing relationships among professionals from diverse industries.</span></span></span></p>\n
LOCATION:Centier Corporate Centre Fifth Floor 600 E 84th Ave Merrillville\, IN 46410 Please enter through the main carousel doors on the west side
UID:e.897.6244
SEQUENCE:3
DTSTAMP:20260421T054928Z
URL:https://members.crossroadschamber.org/events/details/business-after-hours-centier-bank-6244
END:VEVENT

END:VCALENDAR
