BEGIN:VCALENDAR
VERSION:2.0
PRODID:-//ChamberMaster//Event Calendar 2.0//EN
METHOD:PUBLISH
X-PUBLISHED-TTL:P3D
REFRESH-INTERVAL:P3D
CALSCALE:GREGORIAN
BEGIN:VEVENT
DTSTART:20240409T210000Z
DTEND:20240409T230000Z
X-MICROSOFT-CDO-ALLDAYEVENT:FALSE
SUMMARY:Business After Hours - Chase Lowden\, Financial Advisor
DESCRIPTION:We are excited to invite you to the offices of Chase Lowden\, \n\nFinancial Advisor for Business After Hours \n\nThere will be local business and community leaders present\, light appetizers\, and refreshments.\n\nWe look forward to seeing everyone and appreciate your support of our Crossroads Chamber members\, and Northwest Indiana's business Community.
X-ALT-DESC;FMTTYPE=text/html:<p --font-size:="" --line-height:="" class="cvGsUA direction-ltr align-center para-style-body" line-height:="" style="font-family: " yafdjmj3gqa=""><span style="font-family:verdana\;"><span class="OYPEnA text-decoration-none text-strikethrough-none">&nbsp\;We are excited to invite you to the offices of Chase Lowden\,</span><span class="OYPEnA text-decoration-none text-strikethrough-none white-space-prewrap"> </span></span></p>\n\n<p --font-size:="" --line-height:="" class="cvGsUA direction-ltr align-center para-style-body" line-height:="" style="font-family: " yafdjmj3gqa=""><span style="font-family:verdana\;"><span class="OYPEnA text-decoration-none text-strikethrough-none">Financial Advisor for Business After Hours</span><span class="OYPEnA text-decoration-none text-strikethrough-none white-space-prewrap"> </span></span></p>\n\n<p --font-size:="" --line-height:="" class="cvGsUA direction-ltr align-center para-style-body" line-height:="" style="font-family: " yafdjmj3gqa=""><span style="font-family:verdana\;"><span class="OYPEnA text-decoration-none text-strikethrough-none">There will be local business and community leaders present\, light appetizers\, and refreshments.</span><br />\n<span style="color: rgb(102\, 102\, 102)\; background-color: rgb(255\, 255\, 255)\;">We look forward to seeing everyone and appreciate your support of our Crossroads Chamber members\, and Northwest Indiana&rsquo\;s business Community.</span></span></p>\n
LOCATION:The Office of Chase Lowden 200 W 84th Dr\, Suite B Merrillville\, IN
UID:e.897.6240
SEQUENCE:3
DTSTAMP:20260421T071600Z
URL:https://members.crossroadschamber.org/events/details/business-after-hours-chase-lowden-financial-advisor-6240
END:VEVENT

END:VCALENDAR
