BEGIN:VCALENDAR
VERSION:2.0
PRODID:-//ChamberMaster//Event Calendar 2.0//EN
METHOD:PUBLISH
X-PUBLISHED-TTL:P3D
REFRESH-INTERVAL:P3D
CALSCALE:GREGORIAN
BEGIN:VEVENT
DTSTART:20240801T210000Z
DTEND:20240801T230000Z
X-MICROSOFT-CDO-ALLDAYEVENT:FALSE
SUMMARY:Business after Hours- Exceptional Equestrians Unlimited
DESCRIPTION:Join us at Exceptional Equestrians Unlimited Inc. for a Business After Hours. There will be local business and community leaders present\, light appetizers\, and refreshments.\n\n\n\nBusiness after-hours event is a welcoming space for networking and growth\, fostering new partnerships and strengthening existing relationships among professionals from diverse industries.
X-ALT-DESC;FMTTYPE=text/html:Join us at Exceptional Equestrians Unlimited Inc. for a Business After Hours. There will be local business and community leaders present\, light appetizers\, and refreshments.<br />\n<br />\nBusiness after-hours event is a welcoming space for networking and growth\, fostering new partnerships and strengthening existing relationships among professionals from diverse industries.&nbsp\;
LOCATION:5699 E 73rd Ave Merrillville\, IN 46410
UID:e.897.6432
SEQUENCE:3
DTSTAMP:20260421T022356Z
URL:https://members.crossroadschamber.org/events/details/business-after-hours-exceptional-equestrians-unlimited-6432
END:VEVENT

END:VCALENDAR
