BEGIN:VCALENDAR
VERSION:2.0
PRODID:-//ChamberMaster//Event Calendar 2.0//EN
METHOD:PUBLISH
X-PUBLISHED-TTL:P3D
REFRESH-INTERVAL:P3D
CALSCALE:GREGORIAN
BEGIN:VEVENT
DTSTART:20240813T210000Z
DTEND:20240813T230000Z
X-MICROSOFT-CDO-ALLDAYEVENT:FALSE
SUMMARY:Business after Hours- Fair Haven Rape Crisis Center
DESCRIPTION:Join us at Fair Haven Rape Crisis Center- Northwest Indiana for a Business After Hours. There will be local business and community leaders present\, light appetizers\, and refreshments. \n\n\n\nBusiness after-hours event is a welcoming space for networking and growth\, fostering new partnerships and strengthening existing relationships among professionals from diverse industries.
X-ALT-DESC;FMTTYPE=text/html:Join us at Fair Haven Rape Crisis Center- Northwest Indiana for a Business After Hours. There will be local business and community leaders present\, light appetizers\, and refreshments.&nbsp\;<br />\n<br />\nBusiness after-hours event is a welcoming space for networking and growth\, fostering new partnerships and strengthening existing relationships among professionals from diverse industries.
LOCATION:2645 Ridge Rd Highland\, IN 46322
UID:e.897.6433
SEQUENCE:3
DTSTAMP:20260421T004505Z
URL:https://members.crossroadschamber.org/events/details/business-after-hours-fair-haven-rape-crisis-center-6433
END:VEVENT

END:VCALENDAR
