BEGIN:VCALENDAR
VERSION:2.0
PRODID:-//ChamberMaster//Event Calendar 2.0//EN
METHOD:PUBLISH
X-PUBLISHED-TTL:P3D
REFRESH-INTERVAL:P3D
CALSCALE:GREGORIAN
BEGIN:VEVENT
DTSTART:20260319T210000Z
DTEND:20260319T230000Z
X-MICROSOFT-CDO-ALLDAYEVENT:FALSE
SUMMARY:Business After Hours Hosted by Barbara Jean's Gifts and Gourmet and Exceptional Equestrians Unlimited
DESCRIPTION:Join us for joint Business After Hours\, an after-work networking event hosted by Barbara Jean's Gift and Gourmet and Exceptional Equestrians Unlimited. \n\n\n\nConnect with fellow professionals\, build relationships\, and learn more about the host business in a relaxed and welcoming setting.\n\n\n\nAttendees enjoy conversation\, and the chance to network with fellow professionals from across the community. Whether you're new to the Chamber or a longtime member\, Business After Hours is a great way to grow your network\, build visibility\, and stay engaged.\n\n\n\nProspective members are welcome this is a great opportunity to experience what Crossroads Chamber is all about.
X-ALT-DESC;FMTTYPE=text/html:<br />\n<span style="font-size:24px\;">Join us for joint Business After Hours\, an after-work networking event hosted by Barbara Jean&#39\;s Gift and Gourmet and Exceptional Equestrians Unlimited.&nbsp\;<br />\n<br />\nConnect with fellow professionals\, build relationships\, and learn more about the host business in a relaxed and welcoming setting.<br />\n<br />\nAttendees enjoy conversation\, and the chance to network with fellow professionals from across the community. Whether you&rsquo\;re new to the Chamber or a longtime member\, Business After Hours is a great way to grow your network\, build visibility\, and stay engaged.<br />\n<br />\nProspective members are welcome&mdash\;this is a great opportunity to experience what Crossroads Chamber is all about.</span>
LOCATION:6600 Broadway Merrillville\, IN 46410
UID:e.897.7361
SEQUENCE:3
DTSTAMP:20260419T145148Z
URL:https://members.crossroadschamber.org/events/details/business-after-hours-hosted-by-barbara-jean-s-gifts-and-gourmet-and-exceptional-equestrians-unlimited-7361
END:VEVENT

END:VCALENDAR
