BEGIN:VCALENDAR
VERSION:2.0
PRODID:-//ChamberMaster//Event Calendar 2.0//EN
METHOD:PUBLISH
X-PUBLISHED-TTL:P3D
REFRESH-INTERVAL:P3D
CALSCALE:GREGORIAN
BEGIN:VEVENT
DTSTART:20250408T210000Z
DTEND:20250408T230000Z
X-MICROSOFT-CDO-ALLDAYEVENT:FALSE
SUMMARY:Business After Hours Hosted by Belvedere Senior Housing
DESCRIPTION:Business after-hours events is a welcoming space for networking and growth\, fostering new partnerships and strengthening existing relationships among professionals from diverse industries in our chamber.\n\n \n\nJoin us at Belvedere Senior Housing\n\n\n\nThere will be local business and chamber members present\, with light appetizers\, and refreshments.
X-ALT-DESC;FMTTYPE=text/html:<span style="font-size:18px\;"><span style="font-family:arial\;">Business after-hours events is a welcoming space for networking and growth\, fostering new partnerships and strengthening existing relationships among professionals from diverse industries in our chamber.<br />\n&nbsp\;</span><br />\nJoin us at&nbsp\;<span style="color: rgb(0\, 29\, 53)\; font-family: &quot\;Google Sans&quot\;\, Roboto\, Arial\, sans-serif\;">Belvedere Senior Housing</span><br />\n<br />\n<span style="font-family:arial\;">There will be local business and chamber members present\, with light appetizers\, and refreshments.</span></span>
LOCATION:343 E. 90th Drive Merrillville\, IN 46410
UID:e.897.7052
SEQUENCE:3
DTSTAMP:20260420T084611Z
URL:https://members.crossroadschamber.org/events/details/business-after-hours-hosted-by-belvedere-senior-housing-7052
END:VEVENT

END:VCALENDAR
