BEGIN:VCALENDAR
VERSION:2.0
PRODID:-//ChamberMaster//Event Calendar 2.0//EN
METHOD:PUBLISH
X-PUBLISHED-TTL:P3D
REFRESH-INTERVAL:P3D
CALSCALE:GREGORIAN
BEGIN:VEVENT
DTSTART:20250730T220000Z
DTEND:20250731T000000Z
X-MICROSOFT-CDO-ALLDAYEVENT:FALSE
SUMMARY:Business After Hours Hosted by FCA Flooring Specialists
DESCRIPTION:Business after-hours events is a welcoming space for networking and growth\, fostering new partnerships and strengthening existing relationships among professionals from diverse industries in our chamber.\n\n \n\nJoin us at FCA Flooring Specialists\n\n\n\nThere will be local business\, Crossroads and Hobart chamber members present\, with light appetizers\, and refreshments.
X-ALT-DESC;FMTTYPE=text/html:<span style="font-size:20px\;"><span style="font-family:arial\;">Business after-hours events is a welcoming space for networking and growth\, fostering new partnerships and strengthening existing relationships among professionals from diverse industries in our chamber.<br />\n&nbsp\;<br />\nJoin us at FCA Flooring Specialists<br />\n<br />\nThere will be local business\, Crossroads and Hobart chamber members present\, with light appetizers\, and refreshments.</span></span>
LOCATION:3731 E 81st Ave Merrillville\, IN 46410
UID:e.897.7136
SEQUENCE:3
DTSTAMP:20260420T031801Z
URL:https://members.crossroadschamber.org/events/details/business-after-hours-hosted-by-fca-flooring-specialists-7136
END:VEVENT

END:VCALENDAR
