BEGIN:VCALENDAR
VERSION:2.0
PRODID:-//ChamberMaster//Event Calendar 2.0//EN
METHOD:PUBLISH
X-PUBLISHED-TTL:P3D
REFRESH-INTERVAL:P3D
CALSCALE:GREGORIAN
BEGIN:VEVENT
DTSTART:20250812T210000Z
DTEND:20250812T230000Z
X-MICROSOFT-CDO-ALLDAYEVENT:FALSE
SUMMARY:Business After Hours Hosted by Indiana Farm Bureau Insurance - Crown Point
DESCRIPTION:Business after-hours events is a welcoming space for networking and growth\, fostering new partnerships and strengthening existing relationships among professionals from diverse industries in our chamber.\n\n \n\nJoin us at Indiana Farm Bureau Insurance - Crown Point\n\n\n\nThere will be local business and chamber members present\, with light appetizers\, and refreshments.
X-ALT-DESC;FMTTYPE=text/html:<span style="font-size:16px\;"><span style="font-family:arial\;">Business after-hours events is a welcoming space for networking and growth\, fostering new partnerships and strengthening existing relationships among professionals from diverse industries in our chamber.<br />\n&nbsp\;<br />\nJoin us at&nbsp\;</span></span><span style="font-size:20px\;">Indiana Farm Bureau Insurance - Crown Point</span><br />\n<br />\n<span style="font-size:16px\;"><span style="font-family:arial\;">There will be local business and chamber members present\, with light appetizers\, and refreshments.</span></span>
LOCATION:2008 N Main St Crown Point\, IN 46307
UID:e.897.7051
SEQUENCE:3
DTSTAMP:20260420T012259Z
URL:https://members.crossroadschamber.org/events/details/business-after-hours-hosted-by-indiana-farm-bureau-insurance-crown-point-7051
END:VEVENT

END:VCALENDAR
