BEGIN:VCALENDAR
VERSION:2.0
PRODID:-//ChamberMaster//Event Calendar 2.0//EN
METHOD:PUBLISH
X-PUBLISHED-TTL:P3D
REFRESH-INTERVAL:P3D
CALSCALE:GREGORIAN
BEGIN:VEVENT
DTSTART:20250610T210000Z
DTEND:20250610T230000Z
X-MICROSOFT-CDO-ALLDAYEVENT:FALSE
SUMMARY:Business After Hours Hosted by Lowden Financial Partners
DESCRIPTION:Business after-hours events is a welcoming space for networking and growth\, fostering new partnerships and strengthening existing relationships among professionals from diverse industries in our chamber.\n\n \n\nJoin us at Lowden Financial Partners \n\n\n\nThere will be local business and chamber members present\, with light appetizers\, and refreshments.\n\n\n\nJoin us for a ribbon cutting ceremony at 3:45pm
X-ALT-DESC;FMTTYPE=text/html:<span style="font-size:18px\;"><span style="font-family:arial\;">Business after-hours events is a welcoming space for networking and growth\, fostering new partnerships and strengthening existing relationships among professionals from diverse industries in our chamber.<br />\n&nbsp\;</span><br />\nJoin us at Lowden Financial Partners&nbsp\;</span><br />\n<br />\n<span style="font-size:18px\;"><span style="font-family:arial\;">There will be local business and chamber members present\, with light appetizers\, and refreshments.<br />\n<br />\nJoin us for a ribbon cutting ceremony at 3:45pm&nbsp\;</span></span>
LOCATION:440 W 84th Dr Merrillville\, IN
UID:e.897.7054
SEQUENCE:3
DTSTAMP:20260420T064912Z
URL:https://members.crossroadschamber.org/events/details/business-after-hours-hosted-by-lowden-financial-partners-7054
END:VEVENT

END:VCALENDAR
