BEGIN:VCALENDAR
VERSION:2.0
PRODID:-//ChamberMaster//Event Calendar 2.0//EN
METHOD:PUBLISH
X-PUBLISHED-TTL:P3D
REFRESH-INTERVAL:P3D
CALSCALE:GREGORIAN
BEGIN:VEVENT
DTSTART:20250211T220000Z
DTEND:20250212T000000Z
X-MICROSOFT-CDO-ALLDAYEVENT:FALSE
SUMMARY:Business after Hours- Hosted by Merrillville Rotary
DESCRIPTION:Join us for Business After Hours hosted by the Merrillville Rotary Club. There will be local business and community leaders present\, light appetizers\, and refreshments.\n\n\n\nBusiness after-hours event is a welcoming space for networking and growth\, fostering new partnerships and strengthening existing relationships among professionals from diverse industries.
X-ALT-DESC;FMTTYPE=text/html:<span style="font-size:16px\;"><span style="font-family:arial\;">Join us for Business After Hours hosted by the Merrillville Rotary Club. There will be local business and community leaders present\, light appetizers\, and refreshments.<br />\n<br />\nBusiness after-hours event is a welcoming space for networking and growth\, fostering new partnerships and strengthening existing relationships among professionals from diverse industries.&nbsp\;</span></span>
LOCATION:6600 Broadway Merrillville\, IN 46410
UID:e.897.6609
SEQUENCE:3
DTSTAMP:20260420T115610Z
URL:https://members.crossroadschamber.org/events/details/business-after-hours-hosted-by-merrillville-rotary-6609
END:VEVENT

END:VCALENDAR
