BEGIN:VCALENDAR
VERSION:2.0
PRODID:-//ChamberMaster//Event Calendar 2.0//EN
METHOD:PUBLISH
X-PUBLISHED-TTL:P3D
REFRESH-INTERVAL:P3D
CALSCALE:GREGORIAN
BEGIN:VEVENT
DTSTART:20250311T210000Z
DTEND:20250311T230000Z
X-MICROSOFT-CDO-ALLDAYEVENT:FALSE
SUMMARY:Business after Hours- Hosted by Nothing Bundt Cakes
DESCRIPTION:Business after-hours events is a welcoming space for networking and growth\, fostering new partnerships and strengthening existing relationships among professionals from diverse industries in our chamber.\n\n \n\nJoin us at Nothing Bundt Cakes- Merrillville \n\n\n\nThere will be local business and chamber members present\, with light appetizers\, and refreshments.
X-ALT-DESC;FMTTYPE=text/html:Business after-hours events is a welcoming space for networking and growth\, fostering new partnerships and strengthening existing relationships among professionals from diverse industries in our chamber.<br />\n&nbsp\;<br />\nJoin us at Nothing Bundt Cakes- Merrillville&nbsp\;<br />\n<br />\nThere will be local business and chamber members present\, with light appetizers\, and refreshments.
LOCATION:Merrillville\, IN 46410
UID:e.897.6646
SEQUENCE:3
DTSTAMP:20260420T120347Z
URL:https://members.crossroadschamber.org/events/details/business-after-hours-hosted-by-nothing-bundt-cakes-6646
END:VEVENT

END:VCALENDAR
