BEGIN:VCALENDAR
VERSION:2.0
PRODID:-//ChamberMaster//Event Calendar 2.0//EN
METHOD:PUBLISH
X-PUBLISHED-TTL:P3D
REFRESH-INTERVAL:P3D
CALSCALE:GREGORIAN
BEGIN:VEVENT
DTSTART:20251014T210000Z
DTEND:20251014T230000Z
X-MICROSOFT-CDO-ALLDAYEVENT:FALSE
SUMMARY:Business After Hours Hosted by RUSH Physical Therapy
DESCRIPTION:Business after-hours events is a welcoming space for networking and growth\, fostering new partnerships and strengthening existing relationships among professionals from diverse industries in our chamber.\n\n \n\nJoin us at RUSH Physical Therapy\n\n\n\nThere will be local business and chamber members present\, with light appetizers\, and refreshments.
X-ALT-DESC;FMTTYPE=text/html:<span style="font-size:18px\;"><span style="font-family:arial\;">Business after-hours events is a welcoming space for networking and growth\, fostering new partnerships and strengthening existing relationships among professionals from diverse industries in our chamber.<br />\n&nbsp\;</span><br />\nJoin us at&nbsp\;<span class="OYPEnA font-feature-liga-off font-feature-clig-off font-feature-calt-off text-decoration-none text-strikethrough-none" style="color: rgb(0\, 0\, 0)\; font-kerning: none\;">RUSH<span class="OYPEnA font-feature-liga-off font-feature-clig-off font-feature-calt-off text-decoration-none text-strikethrough-none white-space-prewrap" style="color: rgb(0\, 0\, 0)\; font-kerning: none\;"> </span>Physical Therapy</span><br />\n<br />\n<span style="font-family:arial\;">There will be local business and chamber members present\, with light appetizers\, and refreshments.</span></span>
LOCATION:860 Stillwater Pkwy Crown Point\, IN 46307
UID:e.897.7058
SEQUENCE:3
DTSTAMP:20260419T233102Z
URL:https://members.crossroadschamber.org/events/details/business-after-hours-hosted-by-rush-physical-therapy-7058
END:VEVENT

END:VCALENDAR
