BEGIN:VCALENDAR
VERSION:2.0
PRODID:-//ChamberMaster//Event Calendar 2.0//EN
METHOD:PUBLISH
X-PUBLISHED-TTL:P3D
REFRESH-INTERVAL:P3D
CALSCALE:GREGORIAN
BEGIN:VEVENT
DTSTART:20241210T233000Z
DTEND:20241211T013000Z
X-MICROSOFT-CDO-ALLDAYEVENT:FALSE
SUMMARY:Business After Hours Hosted by Wintrust
DESCRIPTION:Business after-hours events is a welcoming space for networking and growth\, fostering new partnerships and strengthening existing relationships among professionals from diverse industries in our chamber.\n\n \n\nPlease join us at Wintrust Indiana.  \n\n\n\nThere will be local business and chamber members present\, with light appetizers\, and refreshments.
X-ALT-DESC;FMTTYPE=text/html:Business after-hours events is a welcoming space for networking and growth\, fostering new partnerships and strengthening existing relationships among professionals from diverse industries in our chamber.<br />\n&nbsp\;<br />\nPlease join us at Wintrust Indiana.&nbsp\;&nbsp\;<br />\n<br />\nThere will be local business and chamber members present\, with light appetizers\, and refreshments.
LOCATION:1420 E. Summit St Crown Point\, IN 46307
UID:e.897.6491
SEQUENCE:3
DTSTAMP:20260420T150838Z
URL:https://members.crossroadschamber.org/events/details/business-after-hours-hosted-by-wintrust-6491
END:VEVENT

END:VCALENDAR
