BEGIN:VCALENDAR
VERSION:2.0
PRODID:-//ChamberMaster//Event Calendar 2.0//EN
METHOD:PUBLISH
X-PUBLISHED-TTL:P3D
REFRESH-INTERVAL:P3D
CALSCALE:GREGORIAN
BEGIN:VEVENT
DTSTART:20240611T210000Z
DTEND:20240611T230000Z
X-MICROSOFT-CDO-ALLDAYEVENT:FALSE
SUMMARY:Business After Hours- Latitude Commercial/Wish Photography and Video
DESCRIPTION:Business after-hours events is a welcoming space for networking and growth\, fostering new partnerships and strengthening existing relationships among professionals from diverse industries.\n\n\n\nJoin us at the office of Latitude Commercial for a joint Business After Hours with Wish Photography\, Video and Fine Art. \n\n\n\nThere will be local business and community leaders present\, light appetizers\, and refreshments.\n\n \n\nSummertime causes more food insecurity for children because they don't have the option of breakfast and lunch at school. Latitude Commercial and Wish Photography would like to help combat this. We're asking our guests to bring child friendly canned foods/dry goods when they attend the BAH event. Each donation earns a raffle ticket. One lucky winner will receive a $50 VISA gift card!
X-ALT-DESC;FMTTYPE=text/html:<span style="font-size:16px\;">Business after-hours events is a welcoming space for networking and growth\, fostering new partnerships and strengthening existing relationships among professionals from diverse industries.<br />\n<br />\nJoin us at the office of Latitude Commercial for a joint&nbsp\;Business After Hours with Wish Photography\, Video and Fine Art.&nbsp\;<br />\n<br />\nThere will be local business and community leaders present\, light appetizers\, and refreshments.</span><br />\n&nbsp\;<br />\n<span style="font-size:16px\;"><strong><span style="color: rgb(0\, 0\, 0)\;">Summertime causes more food insecurity for children because they don&rsquo\;t have the option of breakfast and lunch at school. Latitude Commercial and Wish Photography would like to help combat this. We&rsquo\;re asking our guests to bring child friendly canned foods/dry goods when they attend the BAH event. Each donation earns a raffle ticket. One lucky winner will receive a $50 VISA gift card!</span></strong></span><br />\n&nbsp\;
LOCATION:123 N. Main St. Suite 001 Crown Point\, IN 46307
UID:e.897.6269
SEQUENCE:3
DTSTAMP:20260421T041210Z
URL:https://members.crossroadschamber.org/events/details/business-after-hours-latitude-commercial-wish-photography-and-video-6269
END:VEVENT

END:VCALENDAR
