BEGIN:VCALENDAR
VERSION:2.0
PRODID:-//ChamberMaster//Event Calendar 2.0//EN
METHOD:PUBLISH
X-PUBLISHED-TTL:P3D
REFRESH-INTERVAL:P3D
CALSCALE:GREGORIAN
BEGIN:VEVENT
DTSTART:20241112T220000Z
DTEND:20241113T000000Z
X-MICROSOFT-CDO-ALLDAYEVENT:FALSE
SUMMARY:Business After Hours- Monarch Health and Wellness
DESCRIPTION:Join us at Monarch Health and Wellness for Business After Hours.\n\n\n\nBusiness after-hours event is a welcoming space for networking and growth\, fostering new partnerships and strengthening existing relationships among professionals from diverse industries. There will be light appetizers and refreshments.
X-ALT-DESC;FMTTYPE=text/html:<span style="font-size:20px\;"><span class="OYPEnA font-feature-liga-off font-feature-clig-off font-feature-calt-off text-decoration-none text-strikethrough-none" style="color: rgb(0\, 0\, 0)\; font-kerning: none\;">Join us at Monarch Health and Wellness for Business After Hours.</span><br />\n<br />\n<span class="OYPEnA font-feature-liga-off font-feature-clig-off font-feature-calt-off text-decoration-none text-strikethrough-none" style="color: rgb(0\, 0\, 0)\; font-kerning: none\;">Business after-hours event is a welcoming space for networking and growth\, fostering new partnerships and strengthening existing relationships among professionals from diverse industries. There will be light appetizers and refreshments.</span></span>
LOCATION:503 E. Summit St Suite 3 Crown Point\, IN
UID:e.897.6452
SEQUENCE:3
DTSTAMP:20260420T165729Z
URL:https://members.crossroadschamber.org/events/details/business-after-hours-monarch-health-and-wellness-6452
END:VEVENT

END:VCALENDAR
