BEGIN:VCALENDAR
VERSION:2.0
PRODID:-//ChamberMaster//Event Calendar 2.0//EN
METHOD:PUBLISH
X-PUBLISHED-TTL:P3D
REFRESH-INTERVAL:P3D
CALSCALE:GREGORIAN
BEGIN:VEVENT
DTSTART:20241008T213000Z
DTEND:20241008T233000Z
X-MICROSOFT-CDO-ALLDAYEVENT:FALSE
SUMMARY:Business After Hours - On The Go Therapy Mobile Massage LLC
DESCRIPTION:Join us at On The Go Therapy Mobile Massage for Business After Hours.\n\n\n\nBusiness after-hours event is a welcoming space for networking and growth\, fostering new partnerships and strengthening existing relationships among professionals from diverse industries. There will be light appetizers and refreshments.
X-ALT-DESC;FMTTYPE=text/html:<span class="OYPEnA font-feature-liga-off font-feature-clig-off font-feature-calt-off text-decoration-none text-strikethrough-none" style="box-sizing: border-box\; outline: 0px\; font-family: Arial\, Helvetica\, sans-serif\; font-size: 20px\; color: rgb(0\, 0\, 0)\; font-kerning: none\;">Join us at On The Go Therapy Mobile Massage for Business After Hours.</span><br style="box-sizing: border-box\; color: rgb(102\, 102\, 102)\; font-family: Arial\, Helvetica\, sans-serif\; font-size: 20px\;" />\n<br style="box-sizing: border-box\; color: rgb(102\, 102\, 102)\; font-family: Arial\, Helvetica\, sans-serif\; font-size: 20px\;" />\n<span class="OYPEnA font-feature-liga-off font-feature-clig-off font-feature-calt-off text-decoration-none text-strikethrough-none" style="box-sizing: border-box\; font-family: Arial\, Helvetica\, sans-serif\; font-size: 20px\; color: rgb(0\, 0\, 0)\; font-kerning: none\;">Business after-hours event is a welcoming space for networking and growth\, fostering new partnerships and strengthening existing relationships among professionals from diverse industries. There will be light appetizers and refreshments.</span>
LOCATION:realSPACE 5164 E 81st Ave Merrillville\, IN 46410
UID:e.897.6459
SEQUENCE:3
DTSTAMP:20260420T194556Z
URL:https://members.crossroadschamber.org/events/details/business-after-hours-on-the-go-therapy-mobile-massage-llc-6459
END:VEVENT

END:VCALENDAR
