BEGIN:VCALENDAR
VERSION:2.0
PRODID:-//ChamberMaster//Event Calendar 2.0//EN
METHOD:PUBLISH
X-PUBLISHED-TTL:P3D
REFRESH-INTERVAL:P3D
CALSCALE:GREGORIAN
BEGIN:VEVENT
DTSTART:20240523T210000Z
DTEND:20240523T230000Z
X-MICROSOFT-CDO-ALLDAYEVENT:FALSE
SUMMARY:Business After Hours- Regional Health Systems
DESCRIPTION:Join us at the Regional Health Systems Merrillville Care Center for Business After Hours celebrating Mental Health Awareness Month. \n\n\n\nThere will be local business and community leaders present\, light appetizers\, and refreshments.\n\n \n\nBusiness after-hours events is a welcoming space for networking and growth\, fostering new partnerships and strengthening existing relationships among professionals from diverse industries.
X-ALT-DESC;FMTTYPE=text/html:Join us at the Regional Health Systems&nbsp\;Merrillville Care Center for Business After Hours celebrating Mental Health Awareness Month.&nbsp\;<br />\n<br />\nThere will be local business and community leaders present\, light appetizers\, and refreshments.<br />\n&nbsp\;<br />\nBusiness after-hours events is a welcoming space for networking and growth\, fostering new partnerships and strengthening existing relationships among professionals from diverse industries.<br />\n&nbsp\;
LOCATION:8555 Taft St. Merrillville\, IN 46410
UID:e.897.6248
SEQUENCE:3
DTSTAMP:20260421T055044Z
URL:https://members.crossroadschamber.org/events/details/business-after-hours-regional-health-systems-6248
END:VEVENT

END:VCALENDAR
