BEGIN:VCALENDAR
VERSION:2.0
PRODID:-//ChamberMaster//Event Calendar 2.0//EN
METHOD:PUBLISH
X-PUBLISHED-TTL:P3D
REFRESH-INTERVAL:P3D
CALSCALE:GREGORIAN
BEGIN:VEVENT
DTSTART:20230309T230000Z
DTEND:20230310T010000Z
X-MICROSOFT-CDO-ALLDAYEVENT:FALSE
SUMMARY:Business Excellence Awards
DESCRIPTION:A night of celebrating our local business community with awards\, hors d'oeuvres and entertainment.
X-ALT-DESC;FMTTYPE=text/html:<span style="font-size:14px\;"><span style="font-family:arial\;"><strong>A night of celebrating our local business community with awards\, hors d&#39\;oeuvres and entertainment.</strong></span></span>
LOCATION:Dean and Barbara White Community Center Mike Anderson Chevrolet Event Center 6600 Broadway\, Merrillville\, IN 46410
UID:e.897.4853
SEQUENCE:3
DTSTAMP:20260424T054351Z
URL:https://members.crossroadschamber.org/events/details/business-excellence-awards-4853
END:VEVENT

END:VCALENDAR
