BEGIN:VCALENDAR
VERSION:2.0
PRODID:-//ChamberMaster//Event Calendar 2.0//EN
METHOD:PUBLISH
X-PUBLISHED-TTL:P3D
REFRESH-INTERVAL:P3D
CALSCALE:GREGORIAN
BEGIN:VEVENT
DTSTART:20230302T180000Z
DTEND:20230302T190000Z
X-MICROSOFT-CDO-ALLDAYEVENT:FALSE
SUMMARY:Business Excellence Committee Meeting
DESCRIPTION:
X-ALT-DESC;FMTTYPE=text/html:
LOCATION:Dean & Barbara White Community Center 6600 Broadway\, Merrillville IN 46410
UID:e.897.4880
SEQUENCE:3
DTSTAMP:20260424T071421Z
URL:https://members.crossroadschamber.org/events/details/business-excellence-committee-meeting-4880
END:VEVENT

END:VCALENDAR
