BEGIN:VCALENDAR
VERSION:2.0
PRODID:-//ChamberMaster//Event Calendar 2.0//EN
METHOD:PUBLISH
X-PUBLISHED-TTL:P3D
REFRESH-INTERVAL:P3D
CALSCALE:GREGORIAN
BEGIN:VEVENT
DTSTART:20230502T140000Z
DTEND:20230502T150000Z
X-MICROSOFT-CDO-ALLDAYEVENT:FALSE
SUMMARY:Business Expo Committee Meeting
DESCRIPTION:Business Expo Committee Meeting
X-ALT-DESC;FMTTYPE=text/html:Business Expo Committee Meeting
LOCATION:US Steel Yard "Home of the Railcats" 1 Stadium Plz Gary\, IN 46402
UID:e.897.4592
SEQUENCE:3
DTSTAMP:20260424T035541Z
URL:https://members.crossroadschamber.org/events/details/business-expo-committee-meeting-05-02-2023-4592
END:VEVENT

END:VCALENDAR
