BEGIN:VCALENDAR
VERSION:2.0
PRODID:-//ChamberMaster//Event Calendar 2.0//EN
METHOD:PUBLISH
X-PUBLISHED-TTL:P3D
REFRESH-INTERVAL:P3D
CALSCALE:GREGORIAN
BEGIN:VEVENT
DTSTART:20260512T140000Z
DTEND:20260505T150000Z
X-MICROSOFT-CDO-ALLDAYEVENT:FALSE
SUMMARY:Business Expo Committee Meeting
DESCRIPTION:Business Expo Committee Meeting
X-ALT-DESC;FMTTYPE=text/html:Business Expo Committee Meeting
LOCATION:Dean & Barbara White Community Center 6600 Broadway Merrillville\, IN
UID:e.897.7231
SEQUENCE:3
DTSTAMP:20260419T221557Z
URL:https://members.crossroadschamber.org/events/details/business-expo-committee-meeting-05-05-2026-7231
END:VEVENT

END:VCALENDAR
