BEGIN:VCALENDAR
VERSION:2.0
PRODID:-//ChamberMaster//Event Calendar 2.0//EN
METHOD:PUBLISH
X-PUBLISHED-TTL:P3D
REFRESH-INTERVAL:P3D
CALSCALE:GREGORIAN
BEGIN:VEVENT
DTSTART:20220301T150000Z
DTEND:20220301T160000Z
X-MICROSOFT-CDO-ALLDAYEVENT:FALSE
SUMMARY:Business Expo Committee Meeting
DESCRIPTION:
X-ALT-DESC;FMTTYPE=text/html:
LOCATION:
UID:e.897.4464
SEQUENCE:3
DTSTAMP:20260425T024935Z
URL:https://members.crossroadschamber.org/events/details/business-expo-committee-meeting-4464
END:VEVENT

END:VCALENDAR
