BEGIN:VCALENDAR
VERSION:2.0
PRODID:-//ChamberMaster//Event Calendar 2.0//EN
METHOD:PUBLISH
X-PUBLISHED-TTL:P3D
REFRESH-INTERVAL:P3D
CALSCALE:GREGORIAN
BEGIN:VEVENT
DTSTART:20221101T140000Z
DTEND:20221101T150000Z
X-MICROSOFT-CDO-ALLDAYEVENT:FALSE
SUMMARY:Business Expo Committee Meeting
DESCRIPTION:Business Expo Committee Meeting
X-ALT-DESC;FMTTYPE=text/html:Business Expo Committee Meeting
LOCATION:Crossroads Regional Chamber of Commerce office 440 W. 84th Drive Merrillville\, IN 46410
UID:e.897.4563
SEQUENCE:3
DTSTAMP:20260424T124454Z
URL:https://members.crossroadschamber.org/events/details/business-expo-committee-meeting-4563
END:VEVENT

END:VCALENDAR
