BEGIN:VCALENDAR
VERSION:2.0
PRODID:-//ChamberMaster//Event Calendar 2.0//EN
METHOD:PUBLISH
X-PUBLISHED-TTL:P3D
REFRESH-INTERVAL:P3D
CALSCALE:GREGORIAN
BEGIN:VEVENT
DTSTART:20210601T140000Z
DTEND:20210601T150000Z
X-MICROSOFT-CDO-ALLDAYEVENT:FALSE
SUMMARY:Business Expo Wrap-Up Meeting
DESCRIPTION:Business Expo Committee Wrap-Up Meeting
X-ALT-DESC;FMTTYPE=text/html:Business Expo Committee Wrap-Up Meeting
LOCATION:Crossroads Regional Chamber of Commerce 440 West 84th Drive\, Merrillville
UID:e.897.4398
SEQUENCE:3
DTSTAMP:20260425T191350Z
URL:https://members.crossroadschamber.org/events/details/business-expo-wrap-up-meeting-4398
END:VEVENT

END:VCALENDAR
