BEGIN:VCALENDAR
VERSION:2.0
PRODID:-//ChamberMaster//Event Calendar 2.0//EN
METHOD:PUBLISH
X-PUBLISHED-TTL:P3D
REFRESH-INTERVAL:P3D
CALSCALE:GREGORIAN
BEGIN:VEVENT
DTSTART:20240222T173000Z
DTEND:20240222T190000Z
X-MICROSOFT-CDO-ALLDAYEVENT:FALSE
SUMMARY:Caliber Collision Ribbon Cutting
DESCRIPTION:We are excited to invite everyone to welcome Caliber Collision  to Crown Point. Please join us at the Ribbon Cutting/Grand Opening.\n\n \n\nOpen house will be held from 11:30am-1pm \n\nRibbon Cutting will take place at 12pm.\n\n \n\nWe look forward to seeing everyone and appreciate your support of our Crossroads Chamber members\, and Northwest Indiana's business Community.
X-ALT-DESC;FMTTYPE=text/html:We are excited to invite everyone to welcome Caliber Collision&nbsp\; to Crown Point. Please join us at the Ribbon Cutting/Grand Opening.<br />\n&nbsp\;<br />\nOpen house will be held from 11:30am-1pm&nbsp\;<br />\nRibbon Cutting will take place at 12pm.<br />\n&nbsp\;<br />\nWe look forward to seeing everyone and appreciate your support of our Crossroads Chamber members\, and Northwest Indiana&rsquo\;s business Community.
LOCATION:1018 E. Summit St Crown Point\, IN 46307
UID:e.897.6085
SEQUENCE:3
DTSTAMP:20260423T113857Z
URL:https://members.crossroadschamber.org/events/details/caliber-collision-ribbon-cutting-6085
END:VEVENT

END:VCALENDAR
