BEGIN:VCALENDAR
VERSION:2.0
PRODID:-//ChamberMaster//Event Calendar 2.0//EN
METHOD:PUBLISH
X-PUBLISHED-TTL:P3D
REFRESH-INTERVAL:P3D
CALSCALE:GREGORIAN
BEGIN:VEVENT
DTSTART:20240328T220000Z
DTEND:20240329T003000Z
X-MICROSOFT-CDO-ALLDAYEVENT:FALSE
SUMMARY:CELEBRATE OUR RE-BRANDING- WE ARE NOW NWI INTEGRATIVE HEALTH AND WELLNESS
DESCRIPTION:NWI IV DRIP SPA IS NOW NWI INTEGRATIVE HEALTH AND WELLNESS. PLEASE HELP US CELEBRATE OUR RE-BRANDING\n\n\n\n\n\nWE WILL BE OFFERING VITAMIN INJECTIONS\, DEMONSTRATION OF OUR TED HAIR RESTORATION\, ONE NIGHT ONLY\, SPECIAL DISCOUNTS ON OUR SERVICES\, SUCH AS IV DRIP PACKAGES\, SKIN CARE AND VITAMIN INJECTIONS. FIND OUT MORE ABOUT OUR WEIGHT LOSS PROGRAM\, TRT AND HRT PROGRAMS.\n\n\n\nTHERE WILL BE LIGHT REFRESHMENTS. BONUS!\n\n\n\nIF YOU BRING IN A BAG OF DOG OR CAT FOOD YOU WILL RECEIVE A FREE VITAMIN B12 INJECTION TO BOOST YOUR ENERGY! ALSO\,THERE WILL BE SOME GREAT RAFFLES. THE EXERCISE COACH AND TINSEL ENVY WILL ALSO BE ONSITE.
X-ALT-DESC;FMTTYPE=text/html:NWI IV DRIP SPA IS NOW&hellip\;NWI INTEGRATIVE HEALTH AND WELLNESS. PLEASE HELP US CELEBRATE OUR RE-BRANDING<br />\n<br />\n<br />\nWE WILL BE OFFERING VITAMIN INJECTIONS\, DEMONSTRATION OF OUR TED HAIR RESTORATION\, ONE NIGHT ONLY\, SPECIAL DISCOUNTS ON OUR SERVICES\, SUCH AS IV DRIP PACKAGES\, SKIN CARE AND VITAMIN INJECTIONS. FIND OUT MORE ABOUT OUR WEIGHT LOSS PROGRAM\, TRT AND HRT PROGRAMS.<br />\n<br />\nTHERE WILL BE LIGHT REFRESHMENTS. BONUS!<br />\n<br />\nIF YOU BRING IN A BAG OF DOG OR CAT FOOD YOU WILL RECEIVE A FREE VITAMIN B12 INJECTION TO BOOST YOUR ENERGY! ALSO\,THERE WILL BE SOME GREAT RAFFLES. THE EXERCISE COACH AND TINSEL ENVY WILL ALSO BE ONSITE.
LOCATION:OFF SQUARE BREWERY 11000 DELAWARE PKWY\, CROWN POINT\, IN 46307
UID:e.897.6099
SEQUENCE:3
DTSTAMP:20260423T090418Z
URL:https://members.crossroadschamber.org/events/details/celebrate-our-re-branding-we-are-now-nwi-integrative-health-and-wellness-6099
END:VEVENT

END:VCALENDAR
