BEGIN:VCALENDAR
VERSION:2.0
PRODID:-//ChamberMaster//Event Calendar 2.0//EN
METHOD:PUBLISH
X-PUBLISHED-TTL:P3D
REFRESH-INTERVAL:P3D
CALSCALE:GREGORIAN
BEGIN:VEVENT
DTSTART:20230512T160000Z
DTEND:20230512T190000Z
X-MICROSOFT-CDO-ALLDAYEVENT:FALSE
SUMMARY:CertaPro Painters of NWI
DESCRIPTION:CertaPro Painters of NWI \n\nRibbon Cutting
X-ALT-DESC;FMTTYPE=text/html:CertaPro Painters of NWI&nbsp\;<br />\nRibbon Cutting&nbsp\;
LOCATION:811 East Franciscan Drive Crown Point\, IN 46307
UID:e.897.5016
SEQUENCE:3
DTSTAMP:20260424T020622Z
URL:https://members.crossroadschamber.org/events/details/certapro-painters-of-nwi-5016
END:VEVENT

END:VCALENDAR
