BEGIN:VCALENDAR
VERSION:2.0
PRODID:-//ChamberMaster//Event Calendar 2.0//EN
METHOD:PUBLISH
X-PUBLISHED-TTL:P3D
REFRESH-INTERVAL:P3D
CALSCALE:GREGORIAN
BEGIN:VEVENT
DTSTART:20210314T000000Z
DTEND:20210314T030000Z
X-MICROSOFT-CDO-ALLDAYEVENT:FALSE
SUMMARY:Cheers to 10 Years Recognition Night
DESCRIPTION:Click Here to Nominate.\n\nA night of Celebrating our local business community with awards\, sit down dinner and cocktails.  \n\nTours will be provided of this beautiful new addition to our community.\n\nLake County Heath guidelines with social distancing and masks will be required.
X-ALT-DESC;FMTTYPE=text/html:<a href="https://chambermaster.blob.core.windows.net/userfiles/UserFiles/chambers/897/File/CrossroadsAwardsNomination2020_flyer_form.pdf">Click Here</a>&nbsp\;to Nominate.<br />\nA night of Celebrating our local business community with awards\, sit down dinner and cocktails.&nbsp\;&nbsp\;<br />\nTours will be provided of this beautiful new addition to our community.<br />\nLake County Heath guidelines with social distancing and masks will be required.&nbsp\;
LOCATION:Dean & Barbara White Community Center 6600 Broadway\, Merrillville\, IN 46410
UID:e.897.4384
SEQUENCE:3
DTSTAMP:20260426T001654Z
URL:https://members.crossroadschamber.org/events/details/cheers-to-10-years-recognition-night-4384
END:VEVENT

END:VCALENDAR
