BEGIN:VCALENDAR
VERSION:2.0
PRODID:-//ChamberMaster//Event Calendar 2.0//EN
METHOD:PUBLISH
X-PUBLISHED-TTL:P3D
REFRESH-INTERVAL:P3D
CALSCALE:GREGORIAN
BEGIN:VEVENT
DTSTART:20240509T210000Z
DTEND:20240510T000000Z
X-MICROSOFT-CDO-ALLDAYEVENT:FALSE
SUMMARY:Chicago Title Ribbon Cutting/Open House
DESCRIPTION:We are excited to invite everyone to welcome Chicago Title to their new office in Crown Point. Please join us at the Ribbon Cutting/ Open house.\n\n \n\nOpen house will be held from 4pm-7pm\n\nRibbon Cutting will take place at 5pm\n\n \n\nWe look forward to seeing everyone and appreciate your support of our Crossroads Chamber members\, and Northwest Indiana's business Community.
X-ALT-DESC;FMTTYPE=text/html:We are excited to invite everyone to welcome Chicago Title to their new office in Crown Point. Please join us at the Ribbon Cutting/ Open house.<br />\n&nbsp\;<br />\nOpen house will be held from 4pm-7pm<br />\nRibbon Cutting will take place at 5pm<br />\n&nbsp\;<br />\nWe look forward to seeing everyone and appreciate your support of our Crossroads Chamber members\, and Northwest Indiana&rsquo\;s business Community.
LOCATION:115 S Court St Suite D Crown Point\, IN 46307
UID:e.897.6247
SEQUENCE:3
DTSTAMP:20260421T055624Z
URL:https://members.crossroadschamber.org/events/details/chicago-title-ribbon-cutting-open-house-6247
END:VEVENT

END:VCALENDAR
