BEGIN:VCALENDAR
VERSION:2.0
PRODID:-//ChamberMaster//Event Calendar 2.0//EN
METHOD:PUBLISH
X-PUBLISHED-TTL:P3D
REFRESH-INTERVAL:P3D
CALSCALE:GREGORIAN
BEGIN:VEVENT
DTSTART:20240910T220000Z
DTEND:20240911T000000Z
X-MICROSOFT-CDO-ALLDAYEVENT:FALSE
SUMMARY:Chick-fil-A Crown Point Premier Night
DESCRIPTION:Please join Tyler and Maya Carter and their team for a behind the scenes look at their new restaurant and some samplings of their most popular menu items before they open to the public.\n\n\n\nBe sure to join us at 5:30pm for a special ribbon cutting ceremony. We look forward to serving you at Chick-fil-A Crown Point.
X-ALT-DESC;FMTTYPE=text/html:<span style="font-size:18px\;">Please join Tyler and Maya Carter and their team for a behind the scenes look at their new restaurant and some samplings of their most popular menu items before they open to the public.<br />\n<br />\nBe sure to join us at 5:30pm for a special ribbon cutting ceremony. We look forward to serving you at Chick-fil-A Crown Point.</span>
LOCATION:601 E 109th Pl Crown Point\, IN 46307
UID:e.897.6457
SEQUENCE:3
DTSTAMP:20260420T212758Z
URL:https://members.crossroadschamber.org/events/details/chick-fil-a-crown-point-premier-night-6457
END:VEVENT

END:VCALENDAR
