BEGIN:VCALENDAR
VERSION:2.0
PRODID:-//ChamberMaster//Event Calendar 2.0//EN
METHOD:PUBLISH
X-PUBLISHED-TTL:P3D
REFRESH-INTERVAL:P3D
CALSCALE:GREGORIAN
BEGIN:VEVENT
DTSTART:20250406T180000Z
DTEND:20250406T210000Z
X-MICROSOFT-CDO-ALLDAYEVENT:FALSE
SUMMARY:Clothing our Children Event
DESCRIPTION:Raise Your Glass to Support a Positive Impact as We Gather for a Worthy Cause While Enjoying Tastings of Food\, Wine\, Beer & Engage in Lively Auctions & Games \n\n\n\n100% of your donations directly impact s children in Northwest IN
X-ALT-DESC;FMTTYPE=text/html:<span style="font-size:16px\;"><strong>Raise Your Glass to Support a Positive Impact as We Gather for a Worthy Cause While Enjoying Tastings of Food\, Wine\, Beer &amp\; Engage in Lively Auctions &amp\; Games&nbsp\;<br />\n<br />\n100% of your donations directly impact s children in Northwest IN&nbsp\;</strong></span>
LOCATION:Hellenic Banquet Center @ Saint Constantine and Helen Cathedral 8000 Madison St. Merrillville\, IN 46410
UID:e.897.6645
SEQUENCE:3
DTSTAMP:20260420T084246Z
URL:https://members.crossroadschamber.org/events/details/clothing-our-children-event-6645
END:VEVENT

END:VCALENDAR
