BEGIN:VCALENDAR
VERSION:2.0
PRODID:-//ChamberMaster//Event Calendar 2.0//EN
METHOD:PUBLISH
X-PUBLISHED-TTL:P3D
REFRESH-INTERVAL:P3D
CALSCALE:GREGORIAN
BEGIN:VEVENT
DTSTART;VALUE=DATE:20250811
DTEND;VALUE=DATE:20250812
TRANSP:TRANSPARENT
X-MICROSOFT-CDO-ALLDAYEVENT:TRUE
SUMMARY:Co-Ed Volleyball League Registration Open!
DESCRIPTION:Our popular co-ed Volleyball League is the perfect place for athletes ages 8-14 to discover the thrill of the game! Open to members and non-members of all skill levels. The season will run from October 25 - December 13.
X-ALT-DESC;FMTTYPE=text/html:<p><span style="color:rgb(46\, 47\, 47)\; font-family:verdana\,geneva\,sans-serif\; font-size:16px">Our popular co-ed Volleyball League is the perfect place for athletes ages 8-14 to discover the thrill of the game! Open to members and non-members of all skill levels.&nbsp\;</span><span style="color:rgb(0\, 21\, 32)\; font-family:verdana\,geneva\,sans-serif\; font-size:16px">The season will run from October 25 - December 13.</span></p>\n
LOCATION:Cedar Lake Club Duneland Club East Chicago Club Hammond Club John Will Anderson Gary Club Portage Club South Haven Club Valparaiso Club
UID:e.897.7187
SEQUENCE:3
DTSTAMP:20260420T012130Z
URL:https://members.crossroadschamber.org/events/details/co-ed-volleyball-league-registration-open-08-11-2025-7187
END:VEVENT

END:VCALENDAR
