BEGIN:VCALENDAR
VERSION:2.0
PRODID:-//ChamberMaster//Event Calendar 2.0//EN
METHOD:PUBLISH
X-PUBLISHED-TTL:P3D
REFRESH-INTERVAL:P3D
CALSCALE:GREGORIAN
BEGIN:VEVENT
DTSTART:20251010T130000Z
DTEND:20251010T210000Z
X-MICROSOFT-CDO-ALLDAYEVENT:FALSE
SUMMARY:CoAction's Reimagine Conference
DESCRIPTION:The 2025 Reimagine Conference is where awareness sparks action and communities come together to drive meaningful change. This year's theme\, "Hope in Action: Mobilizing Communities to Respond and Build Collective Strength\," embodies our commitment to turning knowledge into solutions that foster resilience\, healing\, and community well-being.\n\n\n\nJoin leading experts\, practitioners\, and advocates in trauma-informed care\, public health\, education\, social services\, and community development for a transformative day of insight\, collaboration\, and actionable strategies to create stronger\, more responsive communities.\n\n\n\nHere's what your team can gain from Reimagine 2025:\n\n	Practical strategies to respond to trauma\, build trust\, and strengthen resilience.\n	Professional growth through CEUs\, networking\, and skill-building opportunities.\n	Organizational impact with tools to reduce burnout\, improve collaboration\, and inspire teams.\n\nKeynote Address: Dr. Angela Pharris\n\nThe Science and Power of Hope\n\n\n\nIn her keynote\, Dr. Pharris will explore the science behind hope and its profound impact on individuals and organizations. Participants will gain insights into the core tenets of hope   goals\, pathways\, and agency thinking   and learn how cultivating a hopeful mindset can serve as a buffer against stress\, adversity\, and burnout. This session will provide practical strategies to inspire hope and drive meaningful change within our communities.\n\n\n\nReimagine Conference 2025: Focus\n\n\n	Early Childhood & Trauma: The first 1\,000 days\, ACEs\, and long-term impact\n	Building Resilience: Strategies for individuals\, organizations\, and communities\n	Crisis Intervention: Trauma-responsive care for caregivers\, first responders & law enforcement\n	Self-Care & Burnout Prevention: Tools for well-being in high-stress roles\n	Trauma & Social Justice: Addressing systemic inequities and advocating for change\n	Child Abuse Prevention: Supporting families and creating safe environments
X-ALT-DESC;FMTTYPE=text/html:The 2025 Reimagine Conference is where awareness sparks action and communities come together to drive meaningful change. This year&rsquo\;s theme\, &ldquo\;Hope in Action: Mobilizing Communities to Respond and Build Collective Strength\,&rdquo\; embodies our commitment to turning knowledge into solutions that foster resilience\, healing\, and community well-being.<br />\n<br />\nJoin leading experts\, practitioners\, and advocates in trauma-informed care\, public health\, education\, social services\, and community development for a transformative day of insight\, collaboration\, and actionable strategies to create stronger\, more responsive communities.<br />\n<br />\n<strong>Here&rsquo\;s what your team can gain from Reimagine 2025:</strong>\n<ul>\n	<li>Practical strategies to respond to trauma\, build trust\, and strengthen resilience.</li>\n	<li>Professional growth through CEUs\, networking\, and skill-building opportunities.</li>\n	<li>Organizational impact with tools to reduce burnout\, improve collaboration\, and inspire teams.</li>\n</ul>\n<strong>Keynote Address: Dr. Angela Pharris<br />\nThe Science and Power of Hope</strong><br />\n<br />\nIn her keynote\, Dr. Pharris will explore the science behind hope and its profound impact on individuals and organizations. Participants will gain insights into the core tenets of hope &mdash\; goals\, pathways\, and agency thinking &mdash\; and learn how cultivating a hopeful mindset can serve as a buffer against stress\, adversity\, and burnout. This session will provide practical strategies to inspire hope and drive meaningful change within our communities.<br />\n<br />\n<strong>Reimagine Conference 2025: Focus</strong>\n\n<ul>\n	<li>Early Childhood &amp\; Trauma: The first 1\,000 days\, ACEs\, and long-term impact</li>\n	<li>Building Resilience: Strategies for individuals\, organizations\, and communities</li>\n	<li>Crisis Intervention: Trauma-responsive care for caregivers\, first responders &amp\; law enforcement</li>\n	<li>Self-Care &amp\; Burnout Prevention: Tools for well-being in high-stress roles</li>\n	<li>Trauma &amp\; Social Justice: Addressing systemic inequities and advocating for change</li>\n	<li>Child Abuse Prevention: Supporting families and creating safe environments</li>\n</ul>\n
LOCATION:Valparaiso University Harre Union 1509 Chapel Dr\, Valparaiso\, IN
UID:e.897.7208
SEQUENCE:3
DTSTAMP:20260419T213836Z
URL:https://members.crossroadschamber.org/events/details/coaction-s-reimagine-conference-7208
END:VEVENT

END:VCALENDAR
