BEGIN:VCALENDAR
VERSION:2.0
PRODID:-//ChamberMaster//Event Calendar 2.0//EN
METHOD:PUBLISH
X-PUBLISHED-TTL:P3D
REFRESH-INTERVAL:P3D
CALSCALE:GREGORIAN
BEGIN:VEVENT
DTSTART:20250808T230000Z
DTEND:20250809T020000Z
X-MICROSOFT-CDO-ALLDAYEVENT:FALSE
SUMMARY:CoAction's Trivia Night - Lake County
DESCRIPTION:Join us for a night of fun\, friendly competition\, and meaningful impact at CoAction's Lake County Trivia Night on Friday\, August 8th at the Dean & Barbara White Community Center in Merrillville from 6-9pm. Our emcees for the night are Crossroad's very own Deann Patena and Matt Scheuer!\nForm a team of 8 players or join as an individual and we'll match you with a team\, then compete in multiple rounds of engaging trivia questions covering a variety of topics. Enjoy a night of excitement with a silent auction\, delicious hors d'oeuvres catered by Cappo's\, a cash bar\, and fantastic prizes.\nTickets are just $40\, or $275 for a table of 8. Sponsorships are available and we're accepting items for the silent auction!\n\n\n\nGather your team\, challenge your knowledge\, and help us raise critical funds to support vital community programs in Northwest Indiana.
X-ALT-DESC;FMTTYPE=text/html:Join us for a night of fun\, friendly competition\, and meaningful impact at CoAction&rsquo\;s Lake County Trivia Night on Friday\, August 8th at the Dean &amp\; Barbara White Community Center in Merrillville from 6-9pm. Our emcees for the night are Crossroad&#39\;s very own Deann Patena and Matt Scheuer!\n<p>Form a team of 8 players or join as an individual and we&rsquo\;ll match you with a team\, then compete in multiple rounds of engaging trivia questions covering a variety of topics. Enjoy a night of excitement with a silent auction\, delicious hors d&rsquo\;oeuvres catered by Cappo&rsquo\;s\, a cash bar\, and fantastic prizes.</p>\nTickets are just $40\, or $275 for a table of 8. Sponsorships are available and we&#39\;re accepting items for the silent auction!<br />\n<br />\nGather your team\, challenge your knowledge\, and help us raise critical funds to support vital community programs in Northwest Indiana.
LOCATION:Dean & Barbara White Community Center 6600 Broadway\, Merrillville\, IN 46410
UID:e.897.7133
SEQUENCE:3
DTSTAMP:20260420T030354Z
URL:https://members.crossroadschamber.org/events/details/coaction-s-trivia-night-lake-county-7133
END:VEVENT

END:VCALENDAR
