BEGIN:VCALENDAR
VERSION:2.0
PRODID:-//ChamberMaster//Event Calendar 2.0//EN
METHOD:PUBLISH
X-PUBLISHED-TTL:P3D
REFRESH-INTERVAL:P3D
CALSCALE:GREGORIAN
BEGIN:VEVENT
DTSTART:20221117T140000Z
DTEND:20221117T150000Z
X-MICROSOFT-CDO-ALLDAYEVENT:FALSE
SUMMARY:Coffee\, Community & Connection
DESCRIPTION:Mayor Pete Land\n\nCity of Crown Point
X-ALT-DESC;FMTTYPE=text/html:<div><font color="#403f42" face="Arial\, Verdana\, Helvetica\, sans-serif"><span style="font-size: 14px\;">Mayor Pete Land<br />\nCity of Crown Point</span></font></div>\n
LOCATION:Crossroads Regional Chamber of Commerce 440 West 84th Drive\, Merrillville Downstairs in the Laszlo & Popp Community Room
UID:e.897.4540
SEQUENCE:3
DTSTAMP:20260424T123739Z
URL:https://members.crossroadschamber.org/events/details/coffee-community-connection-4540
END:VEVENT

END:VCALENDAR
