BEGIN:VCALENDAR
VERSION:2.0
PRODID:-//ChamberMaster//Event Calendar 2.0//EN
METHOD:PUBLISH
X-PUBLISHED-TTL:P3D
REFRESH-INTERVAL:P3D
CALSCALE:GREGORIAN
BEGIN:VEVENT
DTSTART:20240328T130000Z
DTEND:20240328T140000Z
X-MICROSOFT-CDO-ALLDAYEVENT:FALSE
SUMMARY:Coffee\, Community & Connection
DESCRIPTION:Protecting Yourself and Your Business from Fraud\n\nClint Turpen\n\nRegional Federal Credit Union
X-ALT-DESC;FMTTYPE=text/html:Protecting Yourself and Your Business from Fraud<br />\nClint Turpen<br />\nRegional Federal Credit Union<br />\n&nbsp\;
LOCATION:Dean & Barbara White Community Center 6600 Broadway Merrillville\, IN
UID:e.897.5499
SEQUENCE:3
DTSTAMP:20260423T083226Z
URL:https://members.crossroadschamber.org/events/details/coffee-community-connection-5499
END:VEVENT

END:VCALENDAR
