BEGIN:VCALENDAR
VERSION:2.0
PRODID:-//ChamberMaster//Event Calendar 2.0//EN
METHOD:PUBLISH
X-PUBLISHED-TTL:P3D
REFRESH-INTERVAL:P3D
CALSCALE:GREGORIAN
BEGIN:VEVENT
DTSTART:20240222T140000Z
DTEND:20240222T150000Z
X-MICROSOFT-CDO-ALLDAYEVENT:FALSE
SUMMARY:Coffee\, Community & Connection
DESCRIPTION:Navigating Artificial Intelligence with Stephen Muenstermann and Ryan Sparling from Cloudbusters
X-ALT-DESC;FMTTYPE=text/html:Navigating Artificial Intelligence with Stephen Muenstermann and Ryan Sparling from Cloudbusters<br />\n&nbsp\;
LOCATION:Dean & Barbara White Community Center 6600 Broadway Merrillville\, IN
UID:e.897.5500
SEQUENCE:3
DTSTAMP:20260423T101838Z
URL:https://members.crossroadschamber.org/events/details/coffee-community-connection-5500
END:VEVENT

END:VCALENDAR
