BEGIN:VCALENDAR
VERSION:2.0
PRODID:-//ChamberMaster//Event Calendar 2.0//EN
METHOD:PUBLISH
X-PUBLISHED-TTL:P3D
REFRESH-INTERVAL:P3D
CALSCALE:GREGORIAN
BEGIN:VEVENT
DTSTART:20240418T130000Z
DTEND:20240418T140000Z
X-MICROSOFT-CDO-ALLDAYEVENT:FALSE
SUMMARY:Coffee\, Community & Connection
DESCRIPTION:Human Resource Update\n\nWith Michelle Maravilla from Centier Bank and Attorney James Hortsman
X-ALT-DESC;FMTTYPE=text/html:Human Resource Update<br />\nWith Michelle Maravilla from Centier Bank and Attorney James Hortsman
LOCATION:Dean & Barbara White Community Center 6600 Broadway Merrillville\, IN
UID:e.897.5501
SEQUENCE:3
DTSTAMP:20260421T070859Z
URL:https://members.crossroadschamber.org/events/details/coffee-community-connection-5501
END:VEVENT

END:VCALENDAR
