BEGIN:VCALENDAR
VERSION:2.0
PRODID:-//ChamberMaster//Event Calendar 2.0//EN
METHOD:PUBLISH
X-PUBLISHED-TTL:P3D
REFRESH-INTERVAL:P3D
CALSCALE:GREGORIAN
BEGIN:VEVENT
DTSTART:20240523T130000Z
DTEND:20240523T140000Z
X-MICROSOFT-CDO-ALLDAYEVENT:FALSE
SUMMARY:Coffee\, Community & Connection
DESCRIPTION:Aging Financially Secure Panel\n\nTira Clement  from TrueWealth Advising Group\n\nPatric Richardson from  R & M Partners\n\nAmy Nowaczyk   from O'Drobinak & Nowaczyk PC\n\nModerated by Chase Lowden  Financial Advisor
X-ALT-DESC;FMTTYPE=text/html:Aging Financially Secure Panel<br />\nTira Clement&nbsp\; from TrueWealth Advising Group<br />\nPatric Richardson from&nbsp\; R &amp\; M Partners<br />\nAmy Nowaczyk&nbsp\; &nbsp\;from O&#39\;Drobinak &amp\; Nowaczyk PC<br />\nModerated by Chase Lowden&nbsp\; Financial Advisor
LOCATION:Dean & Barbara White Community Center 6600 Broadway Merrillville\, IN
UID:e.897.5502
SEQUENCE:3
DTSTAMP:20260421T053826Z
URL:https://members.crossroadschamber.org/events/details/coffee-community-connection-5502
END:VEVENT

END:VCALENDAR
